BEGIN:VCALENDAR
VERSION:2.0
PRODID:-//CCWT - The Center for Research on College to Workforce Transitions - ECPv6.15.20//NONSGML v1.0//EN
CALSCALE:GREGORIAN
METHOD:PUBLISH
X-ORIGINAL-URL:https://ccwt.wisc.edu
X-WR-CALDESC:Events for CCWT - The Center for Research on College to Workforce Transitions
REFRESH-INTERVAL;VALUE=DURATION:PT1H
X-Robots-Tag:noindex
X-PUBLISHED-TTL:PT1H
BEGIN:VTIMEZONE
TZID:America/Chicago
BEGIN:DAYLIGHT
TZOFFSETFROM:-0600
TZOFFSETTO:-0500
TZNAME:CDT
DTSTART:20180311T080000
END:DAYLIGHT
BEGIN:STANDARD
TZOFFSETFROM:-0500
TZOFFSETTO:-0600
TZNAME:CST
DTSTART:20181104T070000
END:STANDARD
BEGIN:DAYLIGHT
TZOFFSETFROM:-0600
TZOFFSETTO:-0500
TZNAME:CDT
DTSTART:20190310T080000
END:DAYLIGHT
BEGIN:STANDARD
TZOFFSETFROM:-0500
TZOFFSETTO:-0600
TZNAME:CST
DTSTART:20191103T070000
END:STANDARD
BEGIN:DAYLIGHT
TZOFFSETFROM:-0600
TZOFFSETTO:-0500
TZNAME:CDT
DTSTART:20200308T080000
END:DAYLIGHT
BEGIN:STANDARD
TZOFFSETFROM:-0500
TZOFFSETTO:-0600
TZNAME:CST
DTSTART:20201101T070000
END:STANDARD
END:VTIMEZONE
BEGIN:VEVENT
DTSTART;TZID=America/Chicago:20190201T120000
DTEND;TZID=America/Chicago:20190201T133000
DTSTAMP:20260424T210250
CREATED:20210408T014746Z
LAST-MODIFIED:20220426T035933Z
UID:3182-1549022400-1549027800@ccwt.wisc.edu
SUMMARY:Our HMoob American College Paj Ntaub
DESCRIPTION:Friday\, February 1\, 2019\, 12-1:30 pm\nLunch Provided \nA presentation of findings from a student-led research project examining the experiences of HMoob American undergraduate students at UW-Madison. \nThe “Our HMoob American College Paj Ntaub” research team is comprised of Lena Lee\, Pangzoo Lee\, Myxee Thao\, Kia Vang\, Odyssey Xiong\, Pa Kou Xiong\, Pheechai Xiong\, and their research mentors Bailey Smolarek\, Matthew Wolfgram\, and Choua Xiong. \nSeminar flyer (PDF) \nVideo
URL:https://ccwt.wisc.edu/event/our-hmoob-american-college-paj-ntaub/
CATEGORIES:Seminar Series
ATTACH;FMTTYPE=image/png:https://ccwt.wisc.edu/wp-content/uploads/2021/04/HmoobFlyer.png
END:VEVENT
END:VCALENDAR