BEGIN:VCALENDAR
VERSION:2.0
PRODID:-//CCWT - The Center for Research on College to Workforce Transitions - ECPv6.15.20//NONSGML v1.0//EN
CALSCALE:GREGORIAN
METHOD:PUBLISH
X-WR-CALNAME:CCWT - The Center for Research on College to Workforce Transitions
X-ORIGINAL-URL:https://ccwt.wisc.edu
X-WR-CALDESC:Events for CCWT - The Center for Research on College to Workforce Transitions
REFRESH-INTERVAL;VALUE=DURATION:PT1H
X-Robots-Tag:noindex
X-PUBLISHED-TTL:PT1H
BEGIN:VTIMEZONE
TZID:America/Chicago
BEGIN:DAYLIGHT
TZOFFSETFROM:-0600
TZOFFSETTO:-0500
TZNAME:CDT
DTSTART:20170312T080000
END:DAYLIGHT
BEGIN:STANDARD
TZOFFSETFROM:-0500
TZOFFSETTO:-0600
TZNAME:CST
DTSTART:20171105T070000
END:STANDARD
BEGIN:DAYLIGHT
TZOFFSETFROM:-0600
TZOFFSETTO:-0500
TZNAME:CDT
DTSTART:20180311T080000
END:DAYLIGHT
BEGIN:STANDARD
TZOFFSETFROM:-0500
TZOFFSETTO:-0600
TZNAME:CST
DTSTART:20181104T070000
END:STANDARD
BEGIN:DAYLIGHT
TZOFFSETFROM:-0600
TZOFFSETTO:-0500
TZNAME:CDT
DTSTART:20190310T080000
END:DAYLIGHT
BEGIN:STANDARD
TZOFFSETFROM:-0500
TZOFFSETTO:-0600
TZNAME:CST
DTSTART:20191103T070000
END:STANDARD
END:VTIMEZONE
BEGIN:VEVENT
DTSTART;TZID=America/Chicago:20181018T000000
DTEND;TZID=America/Chicago:20181018T000000
DTSTAMP:20260425T170101
CREATED:20210408T015958Z
LAST-MODIFIED:20220426T040610Z
UID:3191-1539820800-1539820800@ccwt.wisc.edu
SUMMARY:The Vocational Significance of Cultural Identity featuring Angela Byars-Winston
DESCRIPTION:October 18\, 2018\nRace/ethnicity are strong predictors of educational outcomes and labor market position (Byars-Winston\, Fouad & Wen\, 2015). In this presentation\, Professor Byars-Winston briefly reviewed the evidence for and vocational relevance of cultural identity. She used the Outline for Cultural Formulation model to illustrate its applicability for career assessment and career counseling integrating the concept of cultural identity for African American students (Byars-Winston\, 2010)\, and concluded the presentation by delineating implications for promoting workforce diversity. \nAngela Byars-Winston is a Professor in the University of Wisconsin Department of Medicine\, Division of General Internal Medicine. She is also the Director of Research and Evaluation in the UW Center for Women’s Health Research and Faculty Affiliate of the Center for the Improvement of Mentored Experiences in Research.\nVideo
URL:https://ccwt.wisc.edu/event/the-vocational-significance-of-cultural-identity-featuring-angela-byars-winston/
CATEGORIES:Seminar Series
ATTACH;FMTTYPE=image/jpeg:https://ccwt.wisc.edu/wp-content/uploads/2021/04/byars.jpg
END:VEVENT
END:VCALENDAR