BEGIN:VCALENDAR
VERSION:2.0
PRODID:-//CCWT - The Center for Research on College to Workforce Transitions - ECPv6.15.20//NONSGML v1.0//EN
CALSCALE:GREGORIAN
METHOD:PUBLISH
X-ORIGINAL-URL:https://ccwt.wisc.edu
X-WR-CALDESC:Events for CCWT - The Center for Research on College to Workforce Transitions
REFRESH-INTERVAL;VALUE=DURATION:PT1H
X-Robots-Tag:noindex
X-PUBLISHED-TTL:PT1H
BEGIN:VTIMEZONE
TZID:America/Chicago
BEGIN:DAYLIGHT
TZOFFSETFROM:-0600
TZOFFSETTO:-0500
TZNAME:CDT
DTSTART:20180311T080000
END:DAYLIGHT
BEGIN:STANDARD
TZOFFSETFROM:-0500
TZOFFSETTO:-0600
TZNAME:CST
DTSTART:20181104T070000
END:STANDARD
BEGIN:DAYLIGHT
TZOFFSETFROM:-0600
TZOFFSETTO:-0500
TZNAME:CDT
DTSTART:20190310T080000
END:DAYLIGHT
BEGIN:STANDARD
TZOFFSETFROM:-0500
TZOFFSETTO:-0600
TZNAME:CST
DTSTART:20191103T070000
END:STANDARD
BEGIN:DAYLIGHT
TZOFFSETFROM:-0600
TZOFFSETTO:-0500
TZNAME:CDT
DTSTART:20200308T080000
END:DAYLIGHT
BEGIN:STANDARD
TZOFFSETFROM:-0500
TZOFFSETTO:-0600
TZNAME:CST
DTSTART:20201101T070000
END:STANDARD
END:VTIMEZONE
BEGIN:VEVENT
DTSTART;TZID=America/Chicago:20190429T100000
DTEND;TZID=America/Chicago:20190429T100000
DTSTAMP:20260424T043322
CREATED:20210408T014413Z
LAST-MODIFIED:20220426T040050Z
UID:3178-1556532000-1556532000@ccwt.wisc.edu
SUMMARY:Participatory Action Research as a Grassroots Challenge to Policy and Practice in Schools and Universities
DESCRIPTION:with NYU Professor Dr. Gary Anderson\nMonday\, April 29\, 2019 • 10am\n159 Education Building (Wisconsin Idea Room) \nThe growing popularity of Participatory Action Research (PAR) can be attributed to its commitment to doing research with rather than on or for participants\, it’s potential to challenge policy and practice from the bottom up\, and its multiple goals of knowledge generation\, concrete action\, and\, critical pedagogy. \nThis presentation focused on the ways that PAR challenges the current dominance of New Public Management in Schools and Universities and the dominant epistemology of university research. \nSeminar flyer (PDF) \nVideo
URL:https://ccwt.wisc.edu/event/participatory-action-research-as-a-grassroots-challenge-to-policy-and-practice-in-schools-and-universities/
CATEGORIES:Seminar Series
ATTACH;FMTTYPE=image/png:https://ccwt.wisc.edu/wp-content/uploads/2021/04/anderson.png
END:VEVENT
BEGIN:VEVENT
DTSTART;TZID=America/Chicago:20190429T140000
DTEND;TZID=America/Chicago:20190429T153000
DTSTAMP:20260424T043322
CREATED:20210408T191359Z
LAST-MODIFIED:20220426T034659Z
UID:3433-1556546400-1556551800@ccwt.wisc.edu
SUMMARY:Community-Based Participatory Action Research Workshop and Discussion with NYU Professor Dr. Gary Anderson
DESCRIPTION:Workshop and Discussion\nMonday\, April 29\, 2019 • 2-3:30pm\nOn Wisconsin Room\, Red Gym \nThe Center for Research on College-Workforce Transitions and the Morgridge Center for Public Service co-sponsored a workshop and discussion with New York University Professor Gary Anderson for UW-Madison students\, staff\, and faculty who conduct or plan to conduct Community-Based Participatory Action Research. \nGary L. Anderson is Professor of Educational Leadership at NYU Steinhardt. A former high school teacher and principal\, he has published on topics such as critical ethnography\, participatory action research\, new policy networks\, and the new professional. His recent books include The Politics of Education Policy in an Era of Inequality with Sonia Horsford & Janelle Scott (2019\, Routledge) and The Action Research Dissertation with Kathryn Herr (2014\, Sage). \nWorkshop flyer (PDF)
URL:https://ccwt.wisc.edu/event/community-based-participatory-action-research-workshop-and-discussion-with-nyu-professor-dr-gary-anderson/
CATEGORIES:Seminar Series
ATTACH;FMTTYPE=image/png:https://ccwt.wisc.edu/wp-content/uploads/2021/04/andersonworkshop.png
END:VEVENT
END:VCALENDAR