BEGIN:VCALENDAR
VERSION:2.0
PRODID:-//CCWT - The Center for Research on College to Workforce Transitions - ECPv6.15.20//NONSGML v1.0//EN
CALSCALE:GREGORIAN
METHOD:PUBLISH
X-WR-CALNAME:CCWT - The Center for Research on College to Workforce Transitions
X-ORIGINAL-URL:https://ccwt.wisc.edu
X-WR-CALDESC:Events for CCWT - The Center for Research on College to Workforce Transitions
REFRESH-INTERVAL;VALUE=DURATION:PT1H
X-Robots-Tag:noindex
X-PUBLISHED-TTL:PT1H
BEGIN:VTIMEZONE
TZID:America/Chicago
BEGIN:DAYLIGHT
TZOFFSETFROM:-0600
TZOFFSETTO:-0500
TZNAME:CDT
DTSTART:20180311T080000
END:DAYLIGHT
BEGIN:STANDARD
TZOFFSETFROM:-0500
TZOFFSETTO:-0600
TZNAME:CST
DTSTART:20181104T070000
END:STANDARD
BEGIN:DAYLIGHT
TZOFFSETFROM:-0600
TZOFFSETTO:-0500
TZNAME:CDT
DTSTART:20190310T080000
END:DAYLIGHT
BEGIN:STANDARD
TZOFFSETFROM:-0500
TZOFFSETTO:-0600
TZNAME:CST
DTSTART:20191103T070000
END:STANDARD
BEGIN:DAYLIGHT
TZOFFSETFROM:-0600
TZOFFSETTO:-0500
TZNAME:CDT
DTSTART:20200308T080000
END:DAYLIGHT
BEGIN:STANDARD
TZOFFSETFROM:-0500
TZOFFSETTO:-0600
TZNAME:CST
DTSTART:20201101T070000
END:STANDARD
END:VTIMEZONE
BEGIN:VEVENT
DTSTART;TZID=America/Chicago:20190410T120000
DTEND;TZID=America/Chicago:20190410T133000
DTSTAMP:20260424T090716
CREATED:20210408T014553Z
LAST-MODIFIED:20220426T033434Z
UID:3180-1554897600-1554903000@ccwt.wisc.edu
SUMMARY:Managing Transitions from College to Work: The ‘Employability’ and Career Readiness Challenge
DESCRIPTION:with Dr. Michael Tomlinson\nWednesday\, April 10\, 2019 • 12-1:30pm\nEd Sciences 259\, 1025 West Johnson Street \nDr. Michael Tomlinson provided a critical overview of the problem and construct of graduates’ employability\, charting its evolution and the ways in which it has been conceptually and politically applied in understanding macro-level changes between higher education (HE) systems and the labor market. The talk drew on evidence from the perspectives of students and graduates making the transitions from HE to formal employment\, examining the challenges for their career readiness and employment prospects. It explored salient issues relating to the resources\, career values\, and identities which graduates develop through and beyond HE. \nMichael Tomlinson is an Associate Professor at the Southampton Education School at the University of Southampton\, UK where he has been based since 2011. His research interests are in higher education policy\, the sociology of higher education and the HE-work relationship and has published widely in these fields. His previous books are Education\, Work and Identity (2013\, Bloomsbury Publishers) and Graduate Employability in Context (2017\, Palgrave Publishers). \nSeminar flyer (PDF) \nVideo
URL:https://ccwt.wisc.edu/event/managing-transitions-from-college-to-work-the-employability-and-career-readiness-challenge/
CATEGORIES:Seminar Series
END:VEVENT
END:VCALENDAR